BEGIN:VCALENDAR
VERSION:2.0
PRODID:-//Σύλλογος Ποντίων Ηρακλείου - ECPv6.15.12.2//NONSGML v1.0//EN
CALSCALE:GREGORIAN
METHOD:PUBLISH
X-WR-CALNAME:Σύλλογος Ποντίων Ηρακλείου
X-ORIGINAL-URL:https://www.elph.gr
X-WR-CALDESC:Εκδηλώσεις για Σύλλογος Ποντίων Ηρακλείου
REFRESH-INTERVAL;VALUE=DURATION:PT1H
X-Robots-Tag:noindex
X-PUBLISHED-TTL:PT1H
BEGIN:VTIMEZONE
TZID:Europe/Athens
BEGIN:DAYLIGHT
TZOFFSETFROM:+0200
TZOFFSETTO:+0300
TZNAME:EEST
DTSTART:20240331T010000
END:DAYLIGHT
BEGIN:STANDARD
TZOFFSETFROM:+0300
TZOFFSETTO:+0200
TZNAME:EET
DTSTART:20241027T010000
END:STANDARD
BEGIN:DAYLIGHT
TZOFFSETFROM:+0200
TZOFFSETTO:+0300
TZNAME:EEST
DTSTART:20250330T010000
END:DAYLIGHT
BEGIN:STANDARD
TZOFFSETFROM:+0300
TZOFFSETTO:+0200
TZNAME:EET
DTSTART:20251026T010000
END:STANDARD
BEGIN:DAYLIGHT
TZOFFSETFROM:+0200
TZOFFSETTO:+0300
TZNAME:EEST
DTSTART:20260329T010000
END:DAYLIGHT
BEGIN:STANDARD
TZOFFSETFROM:+0300
TZOFFSETTO:+0200
TZNAME:EET
DTSTART:20261025T010000
END:STANDARD
END:VTIMEZONE
BEGIN:VEVENT
DTSTART;TZID=Europe/Athens:20250201T200000
DTEND;TZID=Europe/Athens:20250201T200000
DTSTAMP:20260420T091925
CREATED:20250117T150228Z
LAST-MODIFIED:20250117T150228Z
UID:24592-1738440000-1738440000@www.elph.gr
SUMMARY:Ποντιακή Βραδιά 2025
DESCRIPTION:Την 1η Φεβρουαρίου\, στο αγαπημένο μας Ηράκλειο\, σας περιμένει μια ξεχωριστή εμπειρία. \nΤο Βασικό Σχήμα της βραδιάς :   Γιώργος Ιωαννίδης – Φωνή   Μπάμπης Κεμανατζίδης – Ποντιακή Λύρα   Γιώργος Πετρίδης – Κρουστά   Λάκης Παναγιωτίδης – Πλήκτρα\n\n2ο Μουσικό Σχήμα :   Κώστας Πετρίδης – Φωνή   Στέλιος Γεωργιάδης – Ποντιακή Λύρα   Γιώργος Ζουρνατζίδης – Νταούλι   Γιάννης Παπαχατζάκης – Λαούτο\n\n\n Τηλέφωνο Κρατήσεων: 6977 212 384\n Είσοδος: 20€.  Η τιμή περιλαμβάνει πλήρες μενού\, κρασί και αναψυκτικά.
URL:https://www.elph.gr/programmatismenh-ekdhlosh/pontiaki-vradia-2025/
LOCATION:Κέντρο Δεξιώσεων ΝΙΔΑ\, Λινοπεράματα\, ΕΝΑΝΤΙ ΔΕΗ\, ΗΡΑΚΛΕΙΟ\, Greece
CATEGORIES:Εύξεινος Λέσχη
END:VEVENT
END:VCALENDAR