BEGIN:VCALENDAR
VERSION:2.0
PRODID:-//Σύλλογος Ποντίων Ηρακλείου - ECPv6.15.12.2//NONSGML v1.0//EN
CALSCALE:GREGORIAN
METHOD:PUBLISH
X-ORIGINAL-URL:https://www.elph.gr
X-WR-CALDESC:Εκδηλώσεις για Σύλλογος Ποντίων Ηρακλείου
REFRESH-INTERVAL;VALUE=DURATION:PT1H
X-Robots-Tag:noindex
X-PUBLISHED-TTL:PT1H
BEGIN:VTIMEZONE
TZID:Europe/Athens
BEGIN:DAYLIGHT
TZOFFSETFROM:+0200
TZOFFSETTO:+0300
TZNAME:EEST
DTSTART:20250330T010000
END:DAYLIGHT
BEGIN:STANDARD
TZOFFSETFROM:+0300
TZOFFSETTO:+0200
TZNAME:EET
DTSTART:20251026T010000
END:STANDARD
BEGIN:DAYLIGHT
TZOFFSETFROM:+0200
TZOFFSETTO:+0300
TZNAME:EEST
DTSTART:20260329T010000
END:DAYLIGHT
BEGIN:STANDARD
TZOFFSETFROM:+0300
TZOFFSETTO:+0200
TZNAME:EET
DTSTART:20261025T010000
END:STANDARD
BEGIN:DAYLIGHT
TZOFFSETFROM:+0200
TZOFFSETTO:+0300
TZNAME:EEST
DTSTART:20270328T010000
END:DAYLIGHT
BEGIN:STANDARD
TZOFFSETFROM:+0300
TZOFFSETTO:+0200
TZNAME:EET
DTSTART:20271031T010000
END:STANDARD
END:VTIMEZONE
BEGIN:VEVENT
DTSTART;TZID=Europe/Athens:20260221T200000
DTEND;TZID=Europe/Athens:20260221T200000
DTSTAMP:20260420T055530
CREATED:20260216T171116Z
LAST-MODIFIED:20260216T171116Z
UID:24694-1771704000-1771704000@www.elph.gr
SUMMARY:Ποντιακή Βραδιά 21/02/2026
DESCRIPTION:etisios_2026\nΗ Εύξεινος Λέσχη Ποντίων Ν. Ηρακλείου σας ενημερώνει ότι το Σάββατο 21 Φεβρουαρίου\, στο κέντρο ΚΟΥΡΗΤΕΣ θα πραγματοποιηθεί ο ετήσιος χορός του συλλόγου μας! \n\nΗ στήριξη σας όλα αυτά τα χρόνια είναι πραγματικά συγκλονιστική και ευελπιστούμε πως κι φέτος θα είστε κοντά μας σε ένα μεγάλο ποντιακό γλέντι γεμάτο χορό\, τραγούδι και παράδοση.\n\nΣτο τραγούδι ο μοναδικός Κώστας Θεοδοσιάδης και στη λύρα ο εξαιρετικός Αντώνης Νικηφορίδης.\nΗ ορχήστρα συμπληρώνεται με Τάσο Μαντζαρίδη στο αγγείο\, Γιώργο Πετρίδη στο νταούλι\, Γιάννη Φρούτη στα πλήκτρα \nΜαζί μας και φέτος  τα δικά μας παιδιά\, Στέλιος Γεωργιάδης (λύρα) & Γιώργος Ζουρνατζίδης ( νταούλι) με τον Κώστα Πετρίδη να τους συνοδεύει στη φωνή
URL:https://www.elph.gr/programmatismenh-ekdhlosh/pontiaki-vradia-21-02-2026/
LOCATION:ΚΟΥΡΗΤΕΣ\, Palea EO Rethimnou Irakliou 271\, Gazi 714 14\, Ηράκλειο\, Greece
CATEGORIES:Εύξεινος Λέσχη
ATTACH;FMTTYPE=image/jpeg:https://www.elph.gr/wp-content/uploads/2026/02/αφισα.jpg
ORGANIZER;CN="%CE%95%CE%A5%CE%9E%CE%95%CE%99%CE%9D%CE%9F%CE%A3 %CE%9B%CE%95%CE%A3%CE%A7%CE%97 %CE%A0%CE%9F%CE%9D%CE%A4%CE%99%CE%A9%CE%9D %CE%9D. %CE%97%CE%A1%CE%91%CE%9A%CE%9B%CE%95%CE%99%CE%9F%CE%A5":MAILTO:info@elph.gr
END:VEVENT
END:VCALENDAR