BEGIN:VCALENDAR
VERSION:2.0
PRODID:-//Σύλλογος Ποντίων Ηρακλείου - ECPv6.15.12.2//NONSGML v1.0//EN
CALSCALE:GREGORIAN
METHOD:PUBLISH
X-WR-CALNAME:Σύλλογος Ποντίων Ηρακλείου
X-ORIGINAL-URL:https://www.elph.gr
X-WR-CALDESC:Εκδηλώσεις για Σύλλογος Ποντίων Ηρακλείου
REFRESH-INTERVAL;VALUE=DURATION:PT1H
X-Robots-Tag:noindex
X-PUBLISHED-TTL:PT1H
BEGIN:VTIMEZONE
TZID:Europe/Athens
BEGIN:DAYLIGHT
TZOFFSETFROM:+0200
TZOFFSETTO:+0300
TZNAME:EEST
DTSTART:20230326T010000
END:DAYLIGHT
BEGIN:STANDARD
TZOFFSETFROM:+0300
TZOFFSETTO:+0200
TZNAME:EET
DTSTART:20231029T010000
END:STANDARD
BEGIN:DAYLIGHT
TZOFFSETFROM:+0200
TZOFFSETTO:+0300
TZNAME:EEST
DTSTART:20240331T010000
END:DAYLIGHT
BEGIN:STANDARD
TZOFFSETFROM:+0300
TZOFFSETTO:+0200
TZNAME:EET
DTSTART:20241027T010000
END:STANDARD
BEGIN:DAYLIGHT
TZOFFSETFROM:+0200
TZOFFSETTO:+0300
TZNAME:EEST
DTSTART:20250330T010000
END:DAYLIGHT
BEGIN:STANDARD
TZOFFSETFROM:+0300
TZOFFSETTO:+0200
TZNAME:EET
DTSTART:20251026T010000
END:STANDARD
BEGIN:DAYLIGHT
TZOFFSETFROM:+0200
TZOFFSETTO:+0300
TZNAME:EEST
DTSTART:20260329T010000
END:DAYLIGHT
BEGIN:STANDARD
TZOFFSETFROM:+0300
TZOFFSETTO:+0200
TZNAME:EET
DTSTART:20261025T010000
END:STANDARD
END:VTIMEZONE
BEGIN:VEVENT
DTSTART;TZID=Europe/Athens:20250201T200000
DTEND;TZID=Europe/Athens:20250201T200000
DTSTAMP:20260420T041828
CREATED:20250117T150228Z
LAST-MODIFIED:20250117T150228Z
UID:24592-1738440000-1738440000@www.elph.gr
SUMMARY:Ποντιακή Βραδιά 2025
DESCRIPTION:Την 1η Φεβρουαρίου\, στο αγαπημένο μας Ηράκλειο\, σας περιμένει μια ξεχωριστή εμπειρία. \nΤο Βασικό Σχήμα της βραδιάς :   Γιώργος Ιωαννίδης – Φωνή   Μπάμπης Κεμανατζίδης – Ποντιακή Λύρα   Γιώργος Πετρίδης – Κρουστά   Λάκης Παναγιωτίδης – Πλήκτρα\n\n2ο Μουσικό Σχήμα :   Κώστας Πετρίδης – Φωνή   Στέλιος Γεωργιάδης – Ποντιακή Λύρα   Γιώργος Ζουρνατζίδης – Νταούλι   Γιάννης Παπαχατζάκης – Λαούτο\n\n\n Τηλέφωνο Κρατήσεων: 6977 212 384\n Είσοδος: 20€.  Η τιμή περιλαμβάνει πλήρες μενού\, κρασί και αναψυκτικά.
URL:https://www.elph.gr/programmatismenh-ekdhlosh/pontiaki-vradia-2025/
LOCATION:Κέντρο Δεξιώσεων ΝΙΔΑ\, Λινοπεράματα\, ΕΝΑΝΤΙ ΔΕΗ\, ΗΡΑΚΛΕΙΟ\, Greece
CATEGORIES:Εύξεινος Λέσχη
END:VEVENT
BEGIN:VEVENT
DTSTART;VALUE=DATE:20240515
DTEND;VALUE=DATE:20240517
DTSTAMP:20260420T041828
CREATED:20240704T190404Z
LAST-MODIFIED:20240704T190404Z
UID:24413-1715731200-1715903999@www.elph.gr
SUMMARY:Αριάδνη Live
DESCRIPTION:Οι μέρες πλησιάζουν για το μεγαλύτερο χορό της λέσχης μας \nΠρέπει να είμαστε όλοι εκεί σας περιμένουμε \nγια μια ξεχωριστη και υπέροχη βραδιά \nΧριστός Ανέστη σε ολους. \nΣε αυτήν την σπουδαία και μεγάλη εκδήλωση δεν πρέπει να λείψει κανείς.Μετα από δύο χρόνια ο σύλλογος μας σας προσκαλεί στον ετήσιο χορό του με όλους αυτούς τους υπέροχους και σπουδαίους καλλιτέχνες της ποντιακής παράδοσης στο τραγούδι και την μουσική. Ολοι είστε ευπρόσδεκτοι και όλοι χωράμε στο ίδιο σπίτι.Καλο και ευλογημένο Πάσχα και καλώς να ορίσετε στον χορό μας\, θα είναι τιμή για όλους μας.Σας περιμένουμε για μια βραδιά γεμάτη χορό και διασκέδαση.Ευξεινος Λέσχη Ποντίων Ηρακλείου Κρήτης. \nΔεν πρέπει να λείψει κανείς σε αυτήν την ποντιακή βραδιά με αυτούς τους υπέροχους καλλιτέχνες της ποντιακής μουσικης σκηνής όλοι είναι ευπρόσδεκτοι σας περιμένουμε να περάσουμε μια καταπληκτική βραδιά με πολύ χορό και διασκέδαση ύστερα απο δύο χρόνια καλώς να έρθετε
URL:https://www.elph.gr/programmatismenh-ekdhlosh/ariadni-live/
CATEGORIES:Εύξεινος Λέσχη
END:VEVENT
BEGIN:VEVENT
DTSTART;VALUE=DATE:20240215
DTEND;VALUE=DATE:20240216
DTSTAMP:20260420T041828
CREATED:20250117T165529Z
LAST-MODIFIED:20250117T170501Z
UID:24655-1707955200-1708041599@www.elph.gr
SUMMARY:Κρήτη TV - Καλό Μεσημέρι 15/02/2024
DESCRIPTION:Στιγμιότυπα απο την παρουσία μας στην εκπομπή Καλό Μεσημέρι στο Κρήτη TV
URL:https://www.elph.gr/programmatismenh-ekdhlosh/kriti-tv-kalo-mesimeri-15-02-2024/
END:VEVENT
END:VCALENDAR